BEGIN:VCALENDAR
VERSION:2.0
PRODID:-//wp-events-plugin.com//7.2.2.1//EN
TZID:Australia/Sydney
X-WR-TIMEZONE:Australia/Sydney
BEGIN:VEVENT
UID:13@themessages.com.au
DTSTART;TZID=Australia/Sydney;VALUE=DATE:20220622
DTEND;TZID=Australia/Sydney;VALUE=DATE:20220627
DTSTAMP:20220404T113233Z
URL:https://www.themessages.com.au/events/2022-caritas-of-birmingham-pilgr
 image-june/
SUMMARY:2022 Caritas of Birmingham Pilgrimage June
DESCRIPTION:The 41st Anniversary of Our Lady Queen of Peace Apparitions Mon
 day through Friday\n\n[advanced_iframe src="https://medjugorje.com/pilgrim
 age-to-caritas-of-birmingham-2022-dates-and-prices/" width="100%" height="
 600"]
ATTACH;FMTTYPE=image/jpeg:https://www.themessages.com.au/wp-content/upload
 s/2022/04/medjugorje_2022_logo.png
CATEGORIES:Pilgrimage to Caritas of Birmingham
LOCATION:Caritas of Birmingham\, 100 Our Lady Queen Of Peace Drive\, Sterre
 tt\, Alabama\, 35147\, United States
GEO:33.448718;-86.479982
X-APPLE-STRUCTURED-LOCATION;VALUE=URI;X-ADDRESS=100 Our Lady Queen Of Peace
  Drive\, Sterrett\, Alabama\, 35147\, United States;X-APPLE-RADIUS=100;X-T
 ITLE=Caritas of Birmingham:geo:33.448718,-86.479982
END:VEVENT
BEGIN:VTIMEZONE
TZID:Australia/Sydney
X-LIC-LOCATION:Australia/Sydney
BEGIN:STANDARD
DTSTART:20220403T020000
TZOFFSETFROM:+1100
TZOFFSETTO:+1000
TZNAME:AEST
END:STANDARD
END:VTIMEZONE
END:VCALENDAR